BEGIN:VCALENDAR
VERSION:2.0
PRODID:-//Heimatverein Beverstedt - ECPv5.16.3.1//NONSGML v1.0//EN
CALSCALE:GREGORIAN
METHOD:PUBLISH
X-WR-CALNAME:Heimatverein Beverstedt
X-ORIGINAL-URL:https://www.heimatverein-beverstedt.de
X-WR-CALDESC:Veranstaltungen für Heimatverein Beverstedt
BEGIN:VTIMEZONE
TZID:Europe/Berlin
BEGIN:DAYLIGHT
TZOFFSETFROM:+0100
TZOFFSETTO:+0200
TZNAME:CEST
DTSTART:20250330T010000
END:DAYLIGHT
BEGIN:STANDARD
TZOFFSETFROM:+0200
TZOFFSETTO:+0100
TZNAME:CET
DTSTART:20251026T010000
END:STANDARD
END:VTIMEZONE
BEGIN:VEVENT
DTSTART;TZID=Europe/Berlin:20251210T193000
DTEND;TZID=Europe/Berlin:20251210T230000
DTSTAMP:20260421T115942
CREATED:20250926T115731Z
LAST-MODIFIED:20250926T115731Z
UID:1586-1765395000-1765407600@www.heimatverein-beverstedt.de
SUMMARY:haventheater piccolo teatro
DESCRIPTION:Karten ab November verfügbar
URL:https://www.heimatverein-beverstedt.de/event/haventheater-piccolo-teatro-2/
LOCATION:Dorphuus Lunestedt\, Am Dorphuus 7\, Beverstedt\, 27616\, Deutschland
END:VEVENT
END:VCALENDAR